BEGIN:VCALENDAR
VERSION:2.0
PRODID:-//pecam.org.uk - ECPv6.15.20//NONSGML v1.0//EN
CALSCALE:GREGORIAN
METHOD:PUBLISH
X-ORIGINAL-URL:https://pecam.org.uk
X-WR-CALDESC:Events for pecam.org.uk
REFRESH-INTERVAL;VALUE=DURATION:PT1H
X-Robots-Tag:noindex
X-PUBLISHED-TTL:PT1H
BEGIN:VTIMEZONE
TZID:Europe/London
BEGIN:DAYLIGHT
TZOFFSETFROM:+0000
TZOFFSETTO:+0100
TZNAME:BST
DTSTART:20250330T010000
END:DAYLIGHT
BEGIN:STANDARD
TZOFFSETFROM:+0100
TZOFFSETTO:+0000
TZNAME:GMT
DTSTART:20251026T010000
END:STANDARD
BEGIN:DAYLIGHT
TZOFFSETFROM:+0000
TZOFFSETTO:+0100
TZNAME:BST
DTSTART:20260329T010000
END:DAYLIGHT
BEGIN:STANDARD
TZOFFSETFROM:+0100
TZOFFSETTO:+0000
TZNAME:GMT
DTSTART:20261025T010000
END:STANDARD
BEGIN:DAYLIGHT
TZOFFSETFROM:+0000
TZOFFSETTO:+0100
TZNAME:BST
DTSTART:20270328T010000
END:DAYLIGHT
BEGIN:STANDARD
TZOFFSETFROM:+0100
TZOFFSETTO:+0000
TZNAME:GMT
DTSTART:20271031T010000
END:STANDARD
BEGIN:DAYLIGHT
TZOFFSETFROM:+0000
TZOFFSETTO:+0100
TZNAME:BST
DTSTART:20280326T010000
END:DAYLIGHT
BEGIN:STANDARD
TZOFFSETFROM:+0100
TZOFFSETTO:+0000
TZNAME:GMT
DTSTART:20281029T010000
END:STANDARD
END:VTIMEZONE
BEGIN:VEVENT
DTSTART;TZID=Europe/London:20260818T193000
DTEND;TZID=Europe/London:20260818T193000
DTSTAMP:20260423T171058
CREATED:20260111T193720Z
LAST-MODIFIED:20260111T193720Z
UID:6953-1787081400-1787081400@pecam.org.uk
SUMMARY:Evening Group Social Ride Out
DESCRIPTION:
URL:https://pecam.org.uk/event/evening-group-social-ride-out/
CATEGORIES:Group Ride,Social Evening
END:VEVENT
BEGIN:VEVENT
DTSTART;TZID=Europe/London:20260823T093000
DTEND;TZID=Europe/London:20260823T170000
DTSTAMP:20260423T171058
CREATED:20260111T185757Z
LAST-MODIFIED:20260111T185908Z
UID:6908-1787477400-1787504400@pecam.org.uk
SUMMARY:Sunday Social Group Ride
DESCRIPTION:
URL:https://pecam.org.uk/event/sunday-social-group-ride-13/
CATEGORIES:Group Ride
END:VEVENT
BEGIN:VEVENT
DTSTART;TZID=Europe/London:20260905T100000
DTEND;TZID=Europe/London:20260905T120000
DTSTAMP:20260423T171058
CREATED:20260111T181615Z
LAST-MODIFIED:20260111T181615Z
UID:6866-1788602400-1788609600@pecam.org.uk
SUMMARY:Slow Speed Coaching - basic and advanced - including gymkhana
DESCRIPTION:The slow speed course is set up\, in line with the required competencies in the Advanced Rider Course Handbook. \nRiding at walking pace\, under control – Riding at walking pace\, speeding up and slowing down to walking pace\nBringing your machine to a controlled stop – left foot down – Bringing your machine to a controlled stop – right foot down\nPerform a U-turn in the width of the road\nPull away with lock applied\nComplete a single slalom course through cones
URL:https://pecam.org.uk/event/slow-speed-coaching-basic-and-advanced-including-gymkhana-9/
CATEGORIES:Training
END:VEVENT
BEGIN:VEVENT
DTSTART;TZID=Europe/London:20260905T100000
DTEND;TZID=Europe/London:20260905T150000
DTSTAMP:20260423T171058
CREATED:20260111T200132Z
LAST-MODIFIED:20260111T200132Z
UID:6976-1788602400-1788620400@pecam.org.uk
SUMMARY:Slow Speed Skills Open Day - Recruitment Event
DESCRIPTION:
URL:https://pecam.org.uk/event/slow-speed-skills-open-day-recruitment-event/
CATEGORIES:Training,Recruitment
END:VEVENT
BEGIN:VEVENT
DTSTART;TZID=Europe/London:20260913T093000
DTEND;TZID=Europe/London:20260913T170000
DTSTAMP:20260423T171058
CREATED:20260111T190044Z
LAST-MODIFIED:20260111T190044Z
UID:6910-1789291800-1789318800@pecam.org.uk
SUMMARY:Sunday Social Group Ride
DESCRIPTION:
URL:https://pecam.org.uk/event/sunday-social-group-ride-14/
CATEGORIES:Group Ride
END:VEVENT
BEGIN:VEVENT
DTSTART;TZID=Europe/London:20260915T193000
DTEND;TZID=Europe/London:20260915T193000
DTSTAMP:20260423T171058
CREATED:20260111T193907Z
LAST-MODIFIED:20260111T195058Z
UID:6956-1789500600-1789500600@pecam.org.uk
SUMMARY:Winter Evening Social
DESCRIPTION:
URL:https://pecam.org.uk/event/evening-group-social-ride/
CATEGORIES:Social Evening
END:VEVENT
BEGIN:VEVENT
DTSTART;TZID=Europe/London:20260927T093000
DTEND;TZID=Europe/London:20260927T170000
DTSTAMP:20260423T171058
CREATED:20260111T190240Z
LAST-MODIFIED:20260111T190240Z
UID:6912-1790501400-1790528400@pecam.org.uk
SUMMARY:Sunday Social Group Ride
DESCRIPTION:
URL:https://pecam.org.uk/event/sunday-social-group-ride-15/
CATEGORIES:Group Ride
END:VEVENT
BEGIN:VEVENT
DTSTART;TZID=Europe/London:20261003T100000
DTEND;TZID=Europe/London:20261003T120000
DTSTAMP:20260423T171058
CREATED:20260111T181811Z
LAST-MODIFIED:20260111T181811Z
UID:6868-1791021600-1791028800@pecam.org.uk
SUMMARY:Slow Speed Coaching - basic and advanced\, including gymkhana
DESCRIPTION:The slow speed course is set up\, in line with the required competencies in the Advanced Rider Course Handbook. \n\nRiding at walking pace\, under control – Riding at walking pace\, speeding up and slowing down to walking pace\nBringing your machine to a controlled stop – left foot down – Bringing your machine to a controlled stop – right foot down\nPerform a U-turn in the width of the road\nPull away with lock applied\nComplete a single slalom course through cones
URL:https://pecam.org.uk/event/slow-speed-coaching-basic-and-advanced-including-gymkhana-10/
CATEGORIES:Training
END:VEVENT
BEGIN:VEVENT
DTSTART;TZID=Europe/London:20261011T093000
DTEND;TZID=Europe/London:20261011T170000
DTSTAMP:20260423T171058
CREATED:20260111T190421Z
LAST-MODIFIED:20260111T190421Z
UID:6914-1791711000-1791738000@pecam.org.uk
SUMMARY:Sunday Social Group Ride
DESCRIPTION:
URL:https://pecam.org.uk/event/sunday-social-group-ride-16/
CATEGORIES:Group Ride
END:VEVENT
BEGIN:VEVENT
DTSTART;TZID=Europe/London:20261020T193000
DTEND;TZID=Europe/London:20261020T193000
DTSTAMP:20260423T171058
CREATED:20260111T194112Z
LAST-MODIFIED:20260111T194905Z
UID:6959-1792524600-1792524600@pecam.org.uk
SUMMARY:Winter Evening Social Event
DESCRIPTION:
URL:https://pecam.org.uk/event/evening-group-social-ride-2/
CATEGORIES:Social Evening
END:VEVENT
BEGIN:VEVENT
DTSTART;TZID=Europe/London:20261025T100000
DTEND;TZID=Europe/London:20261025T170000
DTSTAMP:20260423T171058
CREATED:20260111T190612Z
LAST-MODIFIED:20260111T190712Z
UID:6916-1792922400-1792947600@pecam.org.uk
SUMMARY:Sunday Social Group Ride
DESCRIPTION:
URL:https://pecam.org.uk/event/sunday-social-group-ride-17/
CATEGORIES:Group Ride
END:VEVENT
BEGIN:VEVENT
DTSTART;TZID=Europe/London:20261107T100000
DTEND;TZID=Europe/London:20261107T120000
DTSTAMP:20260423T171058
CREATED:20260111T182012Z
LAST-MODIFIED:20260111T182012Z
UID:6870-1794045600-1794052800@pecam.org.uk
SUMMARY:Slow Speed Coaching\, basic and advanced\, including gymkhana
DESCRIPTION:The slow speed course is set up\, in line with the required competencies in the Advanced Rider Course Handbook. \n\nRiding at walking pace\, under control – Riding at walking pace\, speeding up and slowing down to walking pace\nBringing your machine to a controlled stop – left foot down – Bringing your machine to a controlled stop – right foot down\nPerform a U-turn in the width of the road\nPull away with lock applied\nComplete a single slalom course through cones
URL:https://pecam.org.uk/event/slow-speed-coaching-basic-and-advanced-including-gymkhana-11/
CATEGORIES:Training
END:VEVENT
BEGIN:VEVENT
DTSTART;TZID=Europe/London:20261108T093000
DTEND;TZID=Europe/London:20261108T170000
DTSTAMP:20260423T171058
CREATED:20260111T190834Z
LAST-MODIFIED:20260111T190834Z
UID:6919-1794130200-1794157200@pecam.org.uk
SUMMARY:Sunday Social Group Ride
DESCRIPTION:
URL:https://pecam.org.uk/event/sunday-social-group-ride-18/
CATEGORIES:Group Ride
END:VEVENT
BEGIN:VEVENT
DTSTART;TZID=Europe/London:20261117T193000
DTEND;TZID=Europe/London:20261117T193000
DTSTAMP:20260423T171058
CREATED:20260111T194330Z
LAST-MODIFIED:20260111T194330Z
UID:6961-1794943800-1794943800@pecam.org.uk
SUMMARY:Winter Evening Social Event
DESCRIPTION:
URL:https://pecam.org.uk/event/winter-evening-social-event/
CATEGORIES:Social Evening
END:VEVENT
BEGIN:VEVENT
DTSTART;TZID=Europe/London:20261122T093000
DTEND;TZID=Europe/London:20261122T170000
DTSTAMP:20260423T171058
CREATED:20260111T191016Z
LAST-MODIFIED:20260111T191016Z
UID:6922-1795339800-1795366800@pecam.org.uk
SUMMARY:Sunday Social Group Ride
DESCRIPTION:
URL:https://pecam.org.uk/event/sunday-social-group-ride-19/
CATEGORIES:Group Ride
END:VEVENT
BEGIN:VEVENT
DTSTART;TZID=Europe/London:20261205T100000
DTEND;TZID=Europe/London:20261205T120000
DTSTAMP:20260423T171058
CREATED:20260111T182214Z
LAST-MODIFIED:20260111T182214Z
UID:6872-1796464800-1796472000@pecam.org.uk
SUMMARY:Slow Speed Coaching - basic and advanced\, including gymkhana
DESCRIPTION:The slow speed course is set up\, in line with the required competencies in the Advanced Rider Course Handbook. \n\nRiding at walking pace\, under control – Riding at walking pace\, speeding up and slowing down to walking pace\nBringing your machine to a controlled stop – left foot down – Bringing your machine to a controlled stop – right foot down\nPerform a U-turn in the width of the road\nPull away with lock applied\nComplete a single slalom course through cones
URL:https://pecam.org.uk/event/slow-speed-coaching-basic-and-advanced-including-gymkhana-12/
CATEGORIES:Training
END:VEVENT
BEGIN:VEVENT
DTSTART;TZID=Europe/London:20261213T093000
DTEND;TZID=Europe/London:20261213T170000
DTSTAMP:20260423T171058
CREATED:20260111T191211Z
LAST-MODIFIED:20260111T191211Z
UID:6926-1797154200-1797181200@pecam.org.uk
SUMMARY:Sunday Social Group Ride
DESCRIPTION:
URL:https://pecam.org.uk/event/sunday-social-group-ride-20/
CATEGORIES:Group Ride
END:VEVENT
BEGIN:VEVENT
DTSTART;TZID=Europe/London:20261215T193000
DTEND;TZID=Europe/London:20261215T193000
DTSTAMP:20260423T171058
CREATED:20260111T194500Z
LAST-MODIFIED:20260111T194500Z
UID:6963-1797363000-1797363000@pecam.org.uk
SUMMARY:Winter Evening Social Event
DESCRIPTION:
URL:https://pecam.org.uk/event/winter-evening-social-event-2/
CATEGORIES:Social Evening
END:VEVENT
BEGIN:VEVENT
DTSTART;TZID=Europe/London:20261227T093000
DTEND;TZID=Europe/London:20261227T170000
DTSTAMP:20260423T171058
CREATED:20260111T191354Z
LAST-MODIFIED:20260111T191354Z
UID:6928-1798363800-1798390800@pecam.org.uk
SUMMARY:Sunday Social Group Ride
DESCRIPTION:
URL:https://pecam.org.uk/event/sunday-social-group-ride-21/
CATEGORIES:Group Ride
END:VEVENT
BEGIN:VEVENT
DTSTART;TZID=Europe/London:20270102T100000
DTEND;TZID=Europe/London:20270102T120000
DTSTAMP:20260423T171058
CREATED:20260111T182355Z
LAST-MODIFIED:20260111T182355Z
UID:6874-1798884000-1798891200@pecam.org.uk
SUMMARY:Slow Speed Coaching - basic and advanced\, including gymkhana
DESCRIPTION:The slow speed course is set up\, in line with the required competencies in the Advanced Rider Course Handbook. \n\nRiding at walking pace\, under control – Riding at walking pace\, speeding up and slowing down to walking pace\nBringing your machine to a controlled stop – left foot down – Bringing your machine to a controlled stop – right foot down\nPerform a U-turn in the width of the road\nPull away with lock applied\nComplete a single slalom course through cones
URL:https://pecam.org.uk/event/slow-speed-coaching-basic-and-advanced-including-gymkhana-13/
CATEGORIES:Training
END:VEVENT
BEGIN:VEVENT
DTSTART;TZID=Europe/London:20270110T093000
DTEND;TZID=Europe/London:20270110T170000
DTSTAMP:20260423T171058
CREATED:20260111T191555Z
LAST-MODIFIED:20260111T191738Z
UID:6930-1799573400-1799600400@pecam.org.uk
SUMMARY:Sunday Social Group Ride
DESCRIPTION:
URL:https://pecam.org.uk/event/sunday-social-group-ride-22/
CATEGORIES:Group Ride
END:VEVENT
BEGIN:VEVENT
DTSTART;TZID=Europe/London:20270119T193000
DTEND;TZID=Europe/London:20270119T193000
DTSTAMP:20260423T171058
CREATED:20260111T194647Z
LAST-MODIFIED:20260111T194647Z
UID:6965-1800387000-1800387000@pecam.org.uk
SUMMARY:Winter Evening Social Event
DESCRIPTION:
URL:https://pecam.org.uk/event/winter-evening-social-event-3/
CATEGORIES:Social Evening
END:VEVENT
BEGIN:VEVENT
DTSTART;TZID=Europe/London:20270124T093000
DTEND;TZID=Europe/London:20270124T170000
DTSTAMP:20260423T171058
CREATED:20260111T191914Z
LAST-MODIFIED:20260111T191914Z
UID:6932-1800783000-1800810000@pecam.org.uk
SUMMARY:Sunday Social Group Ride
DESCRIPTION:
URL:https://pecam.org.uk/event/sunday-social-group-ride-23/
CATEGORIES:Group Ride
END:VEVENT
END:VCALENDAR