BEGIN:VCALENDAR
VERSION:2.0
PRODID:-//pecam.org.uk - ECPv6.15.20//NONSGML v1.0//EN
CALSCALE:GREGORIAN
METHOD:PUBLISH
X-ORIGINAL-URL:https://pecam.org.uk
X-WR-CALDESC:Events for pecam.org.uk
REFRESH-INTERVAL;VALUE=DURATION:PT1H
X-Robots-Tag:noindex
X-PUBLISHED-TTL:PT1H
BEGIN:VTIMEZONE
TZID:Europe/London
BEGIN:DAYLIGHT
TZOFFSETFROM:+0000
TZOFFSETTO:+0100
TZNAME:BST
DTSTART:20250330T010000
END:DAYLIGHT
BEGIN:STANDARD
TZOFFSETFROM:+0100
TZOFFSETTO:+0000
TZNAME:GMT
DTSTART:20251026T010000
END:STANDARD
BEGIN:DAYLIGHT
TZOFFSETFROM:+0000
TZOFFSETTO:+0100
TZNAME:BST
DTSTART:20260329T010000
END:DAYLIGHT
BEGIN:STANDARD
TZOFFSETFROM:+0100
TZOFFSETTO:+0000
TZNAME:GMT
DTSTART:20261025T010000
END:STANDARD
BEGIN:DAYLIGHT
TZOFFSETFROM:+0000
TZOFFSETTO:+0100
TZNAME:BST
DTSTART:20270328T010000
END:DAYLIGHT
BEGIN:STANDARD
TZOFFSETFROM:+0100
TZOFFSETTO:+0000
TZNAME:GMT
DTSTART:20271031T010000
END:STANDARD
END:VTIMEZONE
BEGIN:VEVENT
DTSTART;TZID=Europe/London:20260502T100000
DTEND;TZID=Europe/London:20260502T150000
DTSTAMP:20260423T163748
CREATED:20260111T195929Z
LAST-MODIFIED:20260111T195929Z
UID:6973-1777716000-1777734000@pecam.org.uk
SUMMARY:Slow Speed Coaching - Open Day - Recruitment Event
DESCRIPTION:
URL:https://pecam.org.uk/event/slow-speed-coaching-open-day-recruitment-event/
CATEGORIES:Training,Recruitment
END:VEVENT
BEGIN:VEVENT
DTSTART;TZID=Europe/London:20260516T100000
DTEND;TZID=Europe/London:20260516T140000
DTSTAMP:20260423T163748
CREATED:20260408T162541Z
LAST-MODIFIED:20260408T162541Z
UID:7124-1778925600-1778940000@pecam.org.uk
SUMMARY:Recruitment Event - The Art of Auto Classic Car & Bike Show - The Bull Inn\, Newborough PE6 7RB
DESCRIPTION:
URL:https://pecam.org.uk/event/recruitment-event-the-art-of-auto-classic-car-bike-show-the-bull-inn-newborough-pe6-7rb/
CATEGORIES:Recruitment
END:VEVENT
BEGIN:VEVENT
DTSTART;TZID=Europe/London:20260516T103000
DTEND;TZID=Europe/London:20260516T160000
DTSTAMP:20260423T163748
CREATED:20260408T162932Z
LAST-MODIFIED:20260408T162932Z
UID:7126-1778927400-1778947200@pecam.org.uk
SUMMARY:Recruitment Event - Grantham Classic Car & Bike Show - Wyndham Park NG31 3BB
DESCRIPTION:
URL:https://pecam.org.uk/event/recruitment-event-grantham-classic-car-bike-show-wyndham-park-ng31-3bb/
CATEGORIES:Recruitment
END:VEVENT
BEGIN:VEVENT
DTSTART;TZID=Europe/London:20260523T080000
DTEND;TZID=Europe/London:20260524T170000
DTSTAMP:20260423T163748
CREATED:20260408T163203Z
LAST-MODIFIED:20260408T163203Z
UID:7128-1779523200-1779642000@pecam.org.uk
SUMMARY:Recruitment Event - Webbs Peterborough Open Weekend PE2 9FT
DESCRIPTION:
URL:https://pecam.org.uk/event/recruitment-event-webbs-peterborough-open-weekend-pe2-9ft/
CATEGORIES:Recruitment
END:VEVENT
BEGIN:VEVENT
DTSTART;TZID=Europe/London:20260627T130000
DTEND;TZID=Europe/London:20260627T160000
DTSTAMP:20260423T163748
CREATED:20260408T163414Z
LAST-MODIFIED:20260408T163414Z
UID:7130-1782565200-1782576000@pecam.org.uk
SUMMARY:Recruitment Event - Werrington Carnival PE4 6QG
DESCRIPTION:
URL:https://pecam.org.uk/event/recruitment-event-werrington-carnival-pe4-6qg/
CATEGORIES:Recruitment
END:VEVENT
BEGIN:VEVENT
DTSTART;VALUE=DATE:20260628
DTEND;VALUE=DATE:20260629
DTSTAMP:20260423T163748
CREATED:20260111T195428Z
LAST-MODIFIED:20260111T195428Z
UID:6969-1782604800-1782691199@pecam.org.uk
SUMMARY:Baston Car & Bike Show\, Grimsthorpe Castle - Recruitment Event
DESCRIPTION:
URL:https://pecam.org.uk/event/baston-car-bike-show-grimsthorpe-castle-recruitment-event/
CATEGORIES:Recruitment
END:VEVENT
BEGIN:VEVENT
DTSTART;VALUE=DATE:20260815
DTEND;VALUE=DATE:20260816
DTSTAMP:20260423T163748
CREATED:20260111T195613Z
LAST-MODIFIED:20260111T195721Z
UID:6971-1786752000-1786838399@pecam.org.uk
SUMMARY:Maxey Car & Bike Show - Recruitment Event
DESCRIPTION:
URL:https://pecam.org.uk/event/maxey-car-bike-show-recruitment-event/
CATEGORIES:Recruitment
END:VEVENT
BEGIN:VEVENT
DTSTART;TZID=Europe/London:20260905T100000
DTEND;TZID=Europe/London:20260905T150000
DTSTAMP:20260423T163748
CREATED:20260111T200132Z
LAST-MODIFIED:20260111T200132Z
UID:6976-1788602400-1788620400@pecam.org.uk
SUMMARY:Slow Speed Skills Open Day - Recruitment Event
DESCRIPTION:
URL:https://pecam.org.uk/event/slow-speed-skills-open-day-recruitment-event/
CATEGORIES:Training,Recruitment
END:VEVENT
END:VCALENDAR