BEGIN:VCALENDAR
VERSION:2.0
PRODID:-//pecam.org.uk - ECPv6.15.20//NONSGML v1.0//EN
CALSCALE:GREGORIAN
METHOD:PUBLISH
X-ORIGINAL-URL:https://pecam.org.uk
X-WR-CALDESC:Events for pecam.org.uk
REFRESH-INTERVAL;VALUE=DURATION:PT1H
X-Robots-Tag:noindex
X-PUBLISHED-TTL:PT1H
BEGIN:VTIMEZONE
TZID:Europe/London
BEGIN:DAYLIGHT
TZOFFSETFROM:+0000
TZOFFSETTO:+0100
TZNAME:BST
DTSTART:20250330T010000
END:DAYLIGHT
BEGIN:STANDARD
TZOFFSETFROM:+0100
TZOFFSETTO:+0000
TZNAME:GMT
DTSTART:20251026T010000
END:STANDARD
BEGIN:DAYLIGHT
TZOFFSETFROM:+0000
TZOFFSETTO:+0100
TZNAME:BST
DTSTART:20260329T010000
END:DAYLIGHT
BEGIN:STANDARD
TZOFFSETFROM:+0100
TZOFFSETTO:+0000
TZNAME:GMT
DTSTART:20261025T010000
END:STANDARD
BEGIN:DAYLIGHT
TZOFFSETFROM:+0000
TZOFFSETTO:+0100
TZNAME:BST
DTSTART:20270328T010000
END:DAYLIGHT
BEGIN:STANDARD
TZOFFSETFROM:+0100
TZOFFSETTO:+0000
TZNAME:GMT
DTSTART:20271031T010000
END:STANDARD
END:VTIMEZONE
BEGIN:VEVENT
DTSTART;TZID=Europe/London:20260421T193000
DTEND;TZID=Europe/London:20260421T193000
DTSTAMP:20260423T182101
CREATED:20260111T192935Z
LAST-MODIFIED:20260111T192935Z
UID:6942-1776799800-1776799800@pecam.org.uk
SUMMARY:Evening Social Group Ride Out
DESCRIPTION:
URL:https://pecam.org.uk/event/evening-social-group-ride-out/
CATEGORIES:Group Ride,Social Evening
END:VEVENT
BEGIN:VEVENT
DTSTART;TZID=Europe/London:20260412T093000
DTEND;TZID=Europe/London:20260412T170000
DTSTAMP:20260423T182101
CREATED:20260111T183836Z
LAST-MODIFIED:20260111T183836Z
UID:6886-1775986200-1776013200@pecam.org.uk
SUMMARY:Sunday Social Group Ride
DESCRIPTION:
URL:https://pecam.org.uk/event/sunday-social-group-ride-4/
CATEGORIES:Group Ride
END:VEVENT
BEGIN:VEVENT
DTSTART;TZID=Europe/London:20260322T100000
DTEND;TZID=Europe/London:20260322T170000
DTSTAMP:20260423T182101
CREATED:20260111T183718Z
LAST-MODIFIED:20260111T183718Z
UID:6884-1774173600-1774198800@pecam.org.uk
SUMMARY:Sunday Group Social Ride
DESCRIPTION:
URL:https://pecam.org.uk/event/sunday-group-social-ride/
CATEGORIES:Group Ride
END:VEVENT
BEGIN:VEVENT
DTSTART;TZID=Europe/London:20260308T100000
DTEND;TZID=Europe/London:20260308T170000
DTSTAMP:20260423T182101
CREATED:20260111T183602Z
LAST-MODIFIED:20260111T183602Z
UID:6882-1772964000-1772989200@pecam.org.uk
SUMMARY:Sunday Social Group Ride
DESCRIPTION:
URL:https://pecam.org.uk/event/sunday-social-group-ride-3/
CATEGORIES:Group Ride
END:VEVENT
BEGIN:VEVENT
DTSTART;TZID=Europe/London:20260222T100000
DTEND;TZID=Europe/London:20260222T170000
DTSTAMP:20260423T182101
CREATED:20260111T183344Z
LAST-MODIFIED:20260111T183344Z
UID:6880-1771754400-1771779600@pecam.org.uk
SUMMARY:Sunday Social Group Ride
DESCRIPTION:
URL:https://pecam.org.uk/event/sunday-social-group-ride-2/
CATEGORIES:Group Ride
END:VEVENT
BEGIN:VEVENT
DTSTART;TZID=Europe/London:20260208T100000
DTEND;TZID=Europe/London:20260208T170000
DTSTAMP:20260423T182101
CREATED:20260111T183207Z
LAST-MODIFIED:20260111T183207Z
UID:6878-1770544800-1770570000@pecam.org.uk
SUMMARY:Sunday Social Group Ride
DESCRIPTION:
URL:https://pecam.org.uk/event/sunday-social-group-ride/
CATEGORIES:Group Ride
END:VEVENT
BEGIN:VEVENT
DTSTART;TZID=Europe/London:20260125T100000
DTEND;TZID=Europe/London:20260125T140000
DTSTAMP:20260423T182101
CREATED:20250114T212924Z
LAST-MODIFIED:20250114T212924Z
UID:5757-1769335200-1769349600@pecam.org.uk
SUMMARY:Sunday Ride Out
DESCRIPTION:
URL:https://pecam.org.uk/event/sunday-ride-out-21/
CATEGORIES:Group Ride
END:VEVENT
END:VCALENDAR